BEGIN:VCALENDAR
VERSION:2.0
PRODID:-//Sabre//Sabre VObject 4.5.8//EN
CALSCALE:GREGORIAN
BEGIN:VEVENT
UID:sabre-vobject-67b5fd47-e509-4bb6-8540-89b03404171e
DTSTAMP:20260423T085602Z
SUMMARY:6 Hours of Fuji - Race
DTSTART;TZID=Asia/Tokyo:20260927T110000
DTEND;TZID=Asia/Tokyo:20260928T000000
END:VEVENT
BEGIN:VEVENT
UID:sabre-vobject-afc60425-04da-48cf-a2ac-5f00c0d15cbf
DTSTAMP:20260423T085602Z
SUMMARY:6 Hours of Fuji - Hyperpole - HYPERCAR
DTSTART;TZID=Asia/Tokyo:20260926T152000
DTEND;TZID=Asia/Tokyo:20260926T223000
END:VEVENT
BEGIN:VEVENT
UID:sabre-vobject-8d475210-aab7-4f26-9d8c-924a0a8f321e
DTSTAMP:20260423T085602Z
SUMMARY:6 Hours of Fuji - Qualifying - HYPERCAR
DTSTART;TZID=Asia/Tokyo:20260926T150000
DTEND;TZID=Asia/Tokyo:20260926T221200
END:VEVENT
BEGIN:VEVENT
UID:sabre-vobject-0b2fa6a8-d4b4-4c05-b5cb-9f8a919eda29
DTSTAMP:20260423T085602Z
SUMMARY:6 Hours of Fuji - Hyperpole - LMGT3
DTSTART;TZID=Asia/Tokyo:20260926T144000
DTEND;TZID=Asia/Tokyo:20260926T215000
END:VEVENT
BEGIN:VEVENT
UID:sabre-vobject-25819e91-8db9-4806-aebe-bd7e78acd145
DTSTAMP:20260423T085602Z
SUMMARY:6 Hours of Fuji - Qualifying - LMGT3
DTSTART;TZID=Asia/Tokyo:20260926T142000
DTEND;TZID=Asia/Tokyo:20260926T213200
END:VEVENT
BEGIN:VEVENT
UID:sabre-vobject-32ef9dae-4a00-4eef-8aec-0b382920c400
DTSTAMP:20260423T085602Z
SUMMARY:6 Hours of Fuji - Free Practice 3
DTSTART;TZID=Asia/Tokyo:20260926T095000
DTEND;TZID=Asia/Tokyo:20260926T175000
END:VEVENT
BEGIN:VEVENT
UID:sabre-vobject-43912d83-76c9-4958-8f70-93cbe990fbe7
DTSTAMP:20260423T085602Z
SUMMARY:6 Hours of Fuji - Free Practice 2
DTSTART;TZID=Asia/Tokyo:20260925T143000
DTEND;TZID=Asia/Tokyo:20260925T230000
END:VEVENT
BEGIN:VEVENT
UID:sabre-vobject-80a9885f-94da-4849-9e9f-1fbc892789ca
DTSTAMP:20260423T085602Z
SUMMARY:6 Hours of Fuji - Free Practice 1
DTSTART;TZID=Asia/Tokyo:20260925T101500
DTEND;TZID=Asia/Tokyo:20260925T184500
END:VEVENT
END:VCALENDAR
