BEGIN:VCALENDAR
VERSION:2.0
PRODID:-//Sabre//Sabre VObject 4.5.8//EN
CALSCALE:GREGORIAN
BEGIN:VEVENT
UID:sabre-vobject-c6ccc6cd-bfad-487d-863d-defd3e51850f
DTSTAMP:20260422T085155Z
SUMMARY:24 Heures du Mans - Course
DTSTART:20250614T160000Z
DTEND:20250615T160000Z
END:VEVENT
BEGIN:VEVENT
UID:sabre-vobject-c54986f0-5e05-4c4f-8c5f-b6787728a520
DTSTAMP:20260422T085155Z
SUMMARY:24 Heures du Mans - Warm-up
DTSTART:20250614T120000Z
DTEND:20250614T121500Z
END:VEVENT
BEGIN:VEVENT
UID:sabre-vobject-b1300c7d-f15c-4df8-afe3-73bc5e9850e6
DTSTAMP:20260422T085155Z
SUMMARY:24 Heures du Mans - Essais libres 4
DTSTART:20250612T230000Z
DTEND:20250613T000000Z
END:VEVENT
BEGIN:VEVENT
UID:sabre-vobject-c7e5c1db-06aa-4c4c-97d8-49f93ed1d1ed
DTSTAMP:20260422T085155Z
SUMMARY:24 Heures du Mans - HYPERPOLE 2 - HYPERCAR
DTSTART:20250612T214000Z
DTEND:20250612T215500Z
END:VEVENT
BEGIN:VEVENT
UID:sabre-vobject-d96e082c-b059-4898-a01e-5632345b5737
DTSTAMP:20260422T085155Z
SUMMARY:24 Heures du Mans - HYPERPOLE 1 - HYPERCAR
DTSTART:20250612T210500Z
DTEND:20250612T212500Z
END:VEVENT
BEGIN:VEVENT
UID:sabre-vobject-62961594-c089-49a3-a8ae-6a0439f1877b
DTSTAMP:20260422T085155Z
SUMMARY:24 Heures du Mans - HYPERPOLE 2 - LMP2 & LMGT3
DTSTART:20250612T203500Z
DTEND:20250612T205000Z
END:VEVENT
BEGIN:VEVENT
UID:sabre-vobject-e3f3baa7-f5ee-4f4f-bc6c-9446c8803878
DTSTAMP:20260422T085155Z
SUMMARY:24 Heures du Mans - HYPERPOLE 1 - LMP2 & LMGT3
DTSTART:20250612T200000Z
DTEND:20250612T202000Z
END:VEVENT
BEGIN:VEVENT
UID:sabre-vobject-2d2c4d0d-2979-4357-8d0d-b4a19e11f89e
DTSTAMP:20260422T085155Z
SUMMARY:24 Heures du Mans - Essais libres 3
DTSTART:20250612T144500Z
DTEND:20250612T174500Z
END:VEVENT
BEGIN:VEVENT
UID:sabre-vobject-9eacec3a-0fd2-4a5d-9f01-9a330a8ed375
DTSTAMP:20260422T085155Z
SUMMARY:24 Heures du Mans - Essais Libres 2
DTSTART:20250611T220000Z
DTEND:20250612T000000Z
END:VEVENT
BEGIN:VEVENT
UID:sabre-vobject-0ab22666-61ab-4421-b20e-f00972a28581
DTSTAMP:20260422T085155Z
SUMMARY:24 Heures du Mans - Qualification - Hypercar
DTSTART:20250611T193000Z
DTEND:20250611T200000Z
END:VEVENT
BEGIN:VEVENT
UID:sabre-vobject-67831f4e-c7cd-43a7-ae98-416a4c426c8e
DTSTAMP:20260422T085155Z
SUMMARY:24 Heures du Mans - Qualification - LMP2 & LMGT3
DTSTART:20250611T184500Z
DTEND:20250611T191500Z
END:VEVENT
BEGIN:VEVENT
UID:sabre-vobject-8d81d307-f95b-405b-935a-7aa05ddeec3a
DTSTAMP:20260422T085155Z
SUMMARY:24 Heures du Mans - Essais Libres 1
DTSTART:20250611T140000Z
DTEND:20250611T170000Z
END:VEVENT
END:VCALENDAR
